BEGIN:VCALENDAR
VERSION:2.0
PRODID:-//Scaynes Hill Village - ECPv6.15.20//NONSGML v1.0//EN
CALSCALE:GREGORIAN
METHOD:PUBLISH
X-ORIGINAL-URL:https://scayneshillvillage.co.uk
X-WR-CALDESC:Events for Scaynes Hill Village
REFRESH-INTERVAL;VALUE=DURATION:PT1H
X-Robots-Tag:noindex
X-PUBLISHED-TTL:PT1H
BEGIN:VTIMEZONE
TZID:Europe/London
BEGIN:DAYLIGHT
TZOFFSETFROM:+0000
TZOFFSETTO:+0100
TZNAME:BST
DTSTART:20240331T010000
END:DAYLIGHT
BEGIN:STANDARD
TZOFFSETFROM:+0100
TZOFFSETTO:+0000
TZNAME:GMT
DTSTART:20241027T010000
END:STANDARD
BEGIN:DAYLIGHT
TZOFFSETFROM:+0000
TZOFFSETTO:+0100
TZNAME:BST
DTSTART:20250330T010000
END:DAYLIGHT
BEGIN:STANDARD
TZOFFSETFROM:+0100
TZOFFSETTO:+0000
TZNAME:GMT
DTSTART:20251026T010000
END:STANDARD
BEGIN:DAYLIGHT
TZOFFSETFROM:+0000
TZOFFSETTO:+0100
TZNAME:BST
DTSTART:20260329T010000
END:DAYLIGHT
BEGIN:STANDARD
TZOFFSETFROM:+0100
TZOFFSETTO:+0000
TZNAME:GMT
DTSTART:20261025T010000
END:STANDARD
END:VTIMEZONE
BEGIN:VEVENT
DTSTART;TZID=Europe/London:20250604T200000
DTEND;TZID=Europe/London:20250604T220000
DTSTAMP:20260424T091246
CREATED:20250525T144139Z
LAST-MODIFIED:20250525T144139Z
UID:6692-1749067200-1749074400@scayneshillvillage.co.uk
SUMMARY:Pub Quiz Night
DESCRIPTION:Come and join us for a fun-filled night of trivia.  Teams of up to 6 people – £2/head. \nCash prizes for the winning team and runners up. \nLisa’s famous chili con carne and a pint for just £8.
URL:https://scayneshillvillage.co.uk/event/pub-quiz-night/
LOCATION:Scaynes Hill Social Club\, Church Road\, Scaynes Hill\, West Sussex\, RH17 7NH\, United Kingdom
END:VEVENT
END:VCALENDAR