BEGIN:VCALENDAR
VERSION:2.0
PRODID:-//Scaynes Hill Village - ECPv6.15.20//NONSGML v1.0//EN
CALSCALE:GREGORIAN
METHOD:PUBLISH
X-ORIGINAL-URL:https://scayneshillvillage.co.uk
X-WR-CALDESC:Events for Scaynes Hill Village
REFRESH-INTERVAL;VALUE=DURATION:PT1H
X-Robots-Tag:noindex
X-PUBLISHED-TTL:PT1H
BEGIN:VTIMEZONE
TZID:UTC
BEGIN:STANDARD
TZOFFSETFROM:+0000
TZOFFSETTO:+0000
TZNAME:UTC
DTSTART:20240101T000000
END:STANDARD
END:VTIMEZONE
BEGIN:VEVENT
DTSTART;TZID=UTC:20250817T150000
DTEND;TZID=UTC:20250817T170000
DTSTAMP:20260424T073040
CREATED:20220828T180739Z
LAST-MODIFIED:20250809T181652Z
UID:4993-1755442800-1755450000@scayneshillvillage.co.uk
SUMMARY:Chailey Windmill open
DESCRIPTION:The Chailey windmill is open again for the season.  The windmill is jam packed with memorabilia\, artifacts\, photos and information about life in Chailey in days gone by.  The windmill is open on the last Sunday each month\, but will also be open on two Sundays in the months May to August.  The additional dates are: \n\n17th August\n\nAdmission is FREE but donations are welcome towards the maintenance of this historic landmark.  The best place to park is in the car park at the North Chailey Sports Ground and them make the short walk along the A272 and up Mill Lane to the windmill. \nFor more information visit the Chailey Parish Council website page https://chaileyparishcouncil.gov.uk/amenities/chailey-windmill-museum-of-local-artefacts
URL:https://scayneshillvillage.co.uk/event/chailey-windmill-open/
LOCATION:Chailey Windmill
ATTACH;FMTTYPE=image/jpeg:https://scayneshillvillage.co.uk/wp-content/uploads/2022/08/windmillx.jpg
END:VEVENT
END:VCALENDAR