BEGIN:VCALENDAR
VERSION:2.0
PRODID:-//Scaynes Hill Village - ECPv6.15.20//NONSGML v1.0//EN
CALSCALE:GREGORIAN
METHOD:PUBLISH
X-WR-CALNAME:Scaynes Hill Village
X-ORIGINAL-URL:https://scayneshillvillage.co.uk
X-WR-CALDESC:Events for Scaynes Hill Village
REFRESH-INTERVAL;VALUE=DURATION:PT1H
X-Robots-Tag:noindex
X-PUBLISHED-TTL:PT1H
BEGIN:VTIMEZONE
TZID:Europe/London
BEGIN:DAYLIGHT
TZOFFSETFROM:+0000
TZOFFSETTO:+0100
TZNAME:BST
DTSTART:20240331T010000
END:DAYLIGHT
BEGIN:STANDARD
TZOFFSETFROM:+0100
TZOFFSETTO:+0000
TZNAME:GMT
DTSTART:20241027T010000
END:STANDARD
BEGIN:DAYLIGHT
TZOFFSETFROM:+0000
TZOFFSETTO:+0100
TZNAME:BST
DTSTART:20250330T010000
END:DAYLIGHT
BEGIN:STANDARD
TZOFFSETFROM:+0100
TZOFFSETTO:+0000
TZNAME:GMT
DTSTART:20251026T010000
END:STANDARD
BEGIN:DAYLIGHT
TZOFFSETFROM:+0000
TZOFFSETTO:+0100
TZNAME:BST
DTSTART:20260329T010000
END:DAYLIGHT
BEGIN:STANDARD
TZOFFSETFROM:+0100
TZOFFSETTO:+0000
TZNAME:GMT
DTSTART:20261025T010000
END:STANDARD
END:VTIMEZONE
BEGIN:VEVENT
DTSTART;TZID=Europe/London:20250821T083000
DTEND;TZID=Europe/London:20250821T100000
DTSTAMP:20260424T055407
CREATED:20241111T125311Z
LAST-MODIFIED:20250714T213425Z
UID:6524-1755765000-1755770400@scayneshillvillage.co.uk
SUMMARY:Mobile Eco Refill Store
DESCRIPTION:There will be a visit by the mobile Eco Refill Store on every third Thursday of the month.  Andi Frost and her eco refill van will be outside the St Augustine’s Primary School in the morning from 08:30 – 10:00 am.  Visit Andi  on the school run to: \n\nGet stocked up with all sorts of foodstuffs and household goods\nReduce your food miles!\nBring containers if you can to reduce wasteful packing
URL:https://scayneshillvillage.co.uk/event/mobile-eco-refill-store/
LOCATION:St Augustine’s Primary School
ATTACH;FMTTYPE=image/jpeg:https://scayneshillvillage.co.uk/wp-content/uploads/2024/11/Refill-van.jpg
END:VEVENT
END:VCALENDAR