BEGIN:VCALENDAR
VERSION:2.0
PRODID:-//Scaynes Hill Village - ECPv6.15.20//NONSGML v1.0//EN
CALSCALE:GREGORIAN
METHOD:PUBLISH
X-ORIGINAL-URL:https://scayneshillvillage.co.uk
X-WR-CALDESC:Events for Scaynes Hill Village
REFRESH-INTERVAL;VALUE=DURATION:PT1H
X-Robots-Tag:noindex
X-PUBLISHED-TTL:PT1H
BEGIN:VTIMEZONE
TZID:Europe/London
BEGIN:DAYLIGHT
TZOFFSETFROM:+0000
TZOFFSETTO:+0100
TZNAME:BST
DTSTART:20240331T010000
END:DAYLIGHT
BEGIN:STANDARD
TZOFFSETFROM:+0100
TZOFFSETTO:+0000
TZNAME:GMT
DTSTART:20241027T010000
END:STANDARD
BEGIN:DAYLIGHT
TZOFFSETFROM:+0000
TZOFFSETTO:+0100
TZNAME:BST
DTSTART:20250330T010000
END:DAYLIGHT
BEGIN:STANDARD
TZOFFSETFROM:+0100
TZOFFSETTO:+0000
TZNAME:GMT
DTSTART:20251026T010000
END:STANDARD
BEGIN:DAYLIGHT
TZOFFSETFROM:+0000
TZOFFSETTO:+0100
TZNAME:BST
DTSTART:20260329T010000
END:DAYLIGHT
BEGIN:STANDARD
TZOFFSETFROM:+0100
TZOFFSETTO:+0000
TZNAME:GMT
DTSTART:20261025T010000
END:STANDARD
END:VTIMEZONE
BEGIN:VEVENT
DTSTART;TZID=Europe/London:20250905T183000
DTEND;TZID=Europe/London:20250905T193000
DTSTAMP:20260424T041953
CREATED:20250809T191309Z
LAST-MODIFIED:20250809T191309Z
UID:6805-1757097000-1757100600@scayneshillvillage.co.uk
SUMMARY:Youth Group Meeting
DESCRIPTION:This Autumn we are looking to start a new Youth Group\, primarily for Year 6 and upwards.  Please come along and find out more.  There will also be a chance for parents and carers to see what we offer.
URL:https://scayneshillvillage.co.uk/event/youth-group-meeting/
LOCATION:St. Augustine’s Church Annexe\, RH17 7NY
ATTACH;FMTTYPE=image/jpeg:https://scayneshillvillage.co.uk/wp-content/uploads/2025/08/Youth-Group-scaled.jpg
END:VEVENT
END:VCALENDAR