BEGIN:VCALENDAR
VERSION:2.0
PRODID:-//Scaynes Hill Village - ECPv6.15.20//NONSGML v1.0//EN
CALSCALE:GREGORIAN
METHOD:PUBLISH
X-ORIGINAL-URL:https://scayneshillvillage.co.uk
X-WR-CALDESC:Events for Scaynes Hill Village
REFRESH-INTERVAL;VALUE=DURATION:PT1H
X-Robots-Tag:noindex
X-PUBLISHED-TTL:PT1H
BEGIN:VTIMEZONE
TZID:Europe/London
BEGIN:DAYLIGHT
TZOFFSETFROM:+0000
TZOFFSETTO:+0100
TZNAME:BST
DTSTART:20240331T010000
END:DAYLIGHT
BEGIN:STANDARD
TZOFFSETFROM:+0100
TZOFFSETTO:+0000
TZNAME:GMT
DTSTART:20241027T010000
END:STANDARD
BEGIN:DAYLIGHT
TZOFFSETFROM:+0000
TZOFFSETTO:+0100
TZNAME:BST
DTSTART:20250330T010000
END:DAYLIGHT
BEGIN:STANDARD
TZOFFSETFROM:+0100
TZOFFSETTO:+0000
TZNAME:GMT
DTSTART:20251026T010000
END:STANDARD
BEGIN:DAYLIGHT
TZOFFSETFROM:+0000
TZOFFSETTO:+0100
TZNAME:BST
DTSTART:20260329T010000
END:DAYLIGHT
BEGIN:STANDARD
TZOFFSETFROM:+0100
TZOFFSETTO:+0000
TZNAME:GMT
DTSTART:20261025T010000
END:STANDARD
END:VTIMEZONE
BEGIN:VEVENT
DTSTART;TZID=Europe/London:20251102T150000
DTEND;TZID=Europe/London:20251102T160000
DTSTAMP:20260424T012115
CREATED:20251027T120234Z
LAST-MODIFIED:20251027T120234Z
UID:6835-1762095600-1762099200@scayneshillvillage.co.uk
SUMMARY:All Souls Service
DESCRIPTION:A time to remember with love.  We will listen to comforting words\, sing familiar hymns\, offer prayers and light a candle.  All welcome
URL:https://scayneshillvillage.co.uk/event/all-souls-service-2/
LOCATION:St Augustine’s Church
END:VEVENT
END:VCALENDAR