BEGIN:VCALENDAR
VERSION:2.0
PRODID:-//Scaynes Hill Village - ECPv6.15.20//NONSGML v1.0//EN
CALSCALE:GREGORIAN
METHOD:PUBLISH
X-ORIGINAL-URL:https://scayneshillvillage.co.uk
X-WR-CALDESC:Events for Scaynes Hill Village
REFRESH-INTERVAL;VALUE=DURATION:PT1H
X-Robots-Tag:noindex
X-PUBLISHED-TTL:PT1H
BEGIN:VTIMEZONE
TZID:UTC
BEGIN:STANDARD
TZOFFSETFROM:+0000
TZOFFSETTO:+0000
TZNAME:UTC
DTSTART:20250101T000000
END:STANDARD
END:VTIMEZONE
BEGIN:VEVENT
DTSTART;TZID=UTC:20260426T190000
DTEND;TZID=UTC:20260426T210000
DTSTAMP:20260423T172503
CREATED:20220818T141130Z
LAST-MODIFIED:20260410T191537Z
UID:4146-1777230000-1777237200@scayneshillvillage.co.uk
SUMMARY:Wivelsfield Film Night - Mother's Pride
DESCRIPTION:From the team behind ‘Finding Your Feet’ and ‘Fisherman’s Friends’ comes Mother’s Pride\, a story about the Harley family who after losing their matriarch\, must come together to save their pub and village\, and have their lives changed by brewing real ale and entering the Great British Beer Awards. Martin Clunes leads in this family friendly comedy. \nTickets £8 on the website or the village shop.  Doors/bar open from 6:30pm
URL:https://scayneshillvillage.co.uk/event/wivelsfield-fil-nmight/
LOCATION:Wivelsfield Village Hall
ATTACH;FMTTYPE=image/jpeg:https://scayneshillvillage.co.uk/wp-content/uploads/2022/08/Mothers-Pride.jpg
END:VEVENT
END:VCALENDAR