BEGIN:VCALENDAR
VERSION:2.0
PRODID:-//Scaynes Hill Village - ECPv6.15.20//NONSGML v1.0//EN
CALSCALE:GREGORIAN
METHOD:PUBLISH
X-WR-CALNAME:Scaynes Hill Village
X-ORIGINAL-URL:https://scayneshillvillage.co.uk
X-WR-CALDESC:Events for Scaynes Hill Village
REFRESH-INTERVAL;VALUE=DURATION:PT1H
X-Robots-Tag:noindex
X-PUBLISHED-TTL:PT1H
BEGIN:VTIMEZONE
TZID:UTC
BEGIN:STANDARD
TZOFFSETFROM:+0000
TZOFFSETTO:+0000
TZNAME:UTC
DTSTART:20250101T000000
END:STANDARD
END:VTIMEZONE
BEGIN:VEVENT
DTSTART;TZID=UTC:20260430T193000
DTEND;TZID=UTC:20260430T210000
DTSTAMP:20260423T172342
CREATED:20220805T095231Z
LAST-MODIFIED:20260416T112834Z
UID:1661-1777577400-1777582800@scayneshillvillage.co.uk
SUMMARY:Sustainability Group meeting
DESCRIPTION:Sustainability Group meeting. All welcome. Phone 831364 \nCurrent topics under discussion: \n\nAnchor pond\nFootpath drainage problems\nTalk on trees and regenerative farming\nWoodland wanders\nCommunity climate resilience
URL:https://scayneshillvillage.co.uk/event/sustainability-group-meeting/
LOCATION:Church Annexe
ATTACH;FMTTYPE=image/jpeg:https://scayneshillvillage.co.uk/wp-content/uploads/2023/04/SHSG-logodark.jpg
ORGANIZER;CN="Sustainability Group":MAILTO:cdelandelong@btinternet.com
END:VEVENT
END:VCALENDAR