BEGIN:VCALENDAR
VERSION:2.0
PRODID:-//Scaynes Hill Village - ECPv6.15.20//NONSGML v1.0//EN
CALSCALE:GREGORIAN
METHOD:PUBLISH
X-WR-CALNAME:Scaynes Hill Village
X-ORIGINAL-URL:https://scayneshillvillage.co.uk
X-WR-CALDESC:Events for Scaynes Hill Village
REFRESH-INTERVAL;VALUE=DURATION:PT1H
X-Robots-Tag:noindex
X-PUBLISHED-TTL:PT1H
BEGIN:VTIMEZONE
TZID:UTC
BEGIN:STANDARD
TZOFFSETFROM:+0000
TZOFFSETTO:+0000
TZNAME:UTC
DTSTART:20250101T000000
END:STANDARD
END:VTIMEZONE
BEGIN:VEVENT
DTSTART;TZID=UTC:20260502T100000
DTEND;TZID=UTC:20260502T130000
DTSTAMP:20260423T172452
CREATED:20220809T100813Z
LAST-MODIFIED:20260410T185103Z
UID:2133-1777716000-1777726800@scayneshillvillage.co.uk
SUMMARY:Lindfield Repair Cafe
DESCRIPTION:Lindfield Repair Cafe is open on the first Saturday in each month. \nIn the Kids’ Room\, as always\, there will be a range of crafting activities on offer for younger members to hone their creative skills\, which we hope will equip them to become our next generation of repairers.\nChildren must be always supervised by a responsible adult. \nALL REPAIRS MUST BE CHECKED IN BY 12.3OPM PLEASE \nAndi will be parking up nearby with her Fill Good Van again this month\, so you can stock up on store cupboard essentials. Bring your empty containers to fill up! Check out her Facebook page: Fill Good and visit her website www.fillgoodstore.co.uk to see what’s available.
URL:https://scayneshillvillage.co.uk/event/lindfield-repair-cafe-2/
LOCATION:United Reform Church\, Lindfield
ATTACH;FMTTYPE=image/jpeg:https://scayneshillvillage.co.uk/wp-content/uploads/2022/08/Lindfield-Repair-Cafe.jpg
END:VEVENT
END:VCALENDAR