BEGIN:VCALENDAR
VERSION:2.0
PRODID:-//Scaynes Hill Village - ECPv6.15.20//NONSGML v1.0//EN
CALSCALE:GREGORIAN
METHOD:PUBLISH
X-ORIGINAL-URL:https://scayneshillvillage.co.uk
X-WR-CALDESC:Events for Scaynes Hill Village
REFRESH-INTERVAL;VALUE=DURATION:PT1H
X-Robots-Tag:noindex
X-PUBLISHED-TTL:PT1H
BEGIN:VTIMEZONE
TZID:UTC
BEGIN:STANDARD
TZOFFSETFROM:+0000
TZOFFSETTO:+0000
TZNAME:UTC
DTSTART:20250101T000000
END:STANDARD
END:VTIMEZONE
BEGIN:VEVENT
DTSTART;TZID=UTC:20260505T100000
DTEND;TZID=UTC:20260505T120000
DTSTAMP:20260423T190530
CREATED:20220818T135413Z
LAST-MODIFIED:20260423T103522Z
UID:4125-1777975200-1777982400@scayneshillvillage.co.uk
SUMMARY:Anchor Coffee Shop
DESCRIPTION:Anchor Coffee Shop in the church annexe open every Tuesday morning for freshly brewed coffee\, selection of teas or fruit juices and home baking in a friendly atmosphere.  It’s a great place to meet up with friends and also very child friendly having plenty to offer babies and toddlers including play mats\, highchairs and toys.
URL:https://scayneshillvillage.co.uk/event/anchor-coffee-shop-7/
LOCATION:Church Annexe
ATTACH;FMTTYPE=image/png:https://scayneshillvillage.co.uk/wp-content/uploads/2022/08/coffee-cup1.png
END:VEVENT
END:VCALENDAR