BEGIN:VCALENDAR
VERSION:2.0
PRODID:-//Scaynes Hill Village - ECPv6.15.20//NONSGML v1.0//EN
CALSCALE:GREGORIAN
METHOD:PUBLISH
X-ORIGINAL-URL:https://scayneshillvillage.co.uk
X-WR-CALDESC:Events for Scaynes Hill Village
REFRESH-INTERVAL;VALUE=DURATION:PT1H
X-Robots-Tag:noindex
X-PUBLISHED-TTL:PT1H
BEGIN:VTIMEZONE
TZID:Europe/London
BEGIN:DAYLIGHT
TZOFFSETFROM:+0000
TZOFFSETTO:+0100
TZNAME:BST
DTSTART:20250330T010000
END:DAYLIGHT
BEGIN:STANDARD
TZOFFSETFROM:+0100
TZOFFSETTO:+0000
TZNAME:GMT
DTSTART:20251026T010000
END:STANDARD
BEGIN:DAYLIGHT
TZOFFSETFROM:+0000
TZOFFSETTO:+0100
TZNAME:BST
DTSTART:20260329T010000
END:DAYLIGHT
BEGIN:STANDARD
TZOFFSETFROM:+0100
TZOFFSETTO:+0000
TZNAME:GMT
DTSTART:20261025T010000
END:STANDARD
BEGIN:DAYLIGHT
TZOFFSETFROM:+0000
TZOFFSETTO:+0100
TZNAME:BST
DTSTART:20270328T010000
END:DAYLIGHT
BEGIN:STANDARD
TZOFFSETFROM:+0100
TZOFFSETTO:+0000
TZNAME:GMT
DTSTART:20271031T010000
END:STANDARD
END:VTIMEZONE
BEGIN:VEVENT
DTSTART;TZID=Europe/London:20260520T103000
DTEND;TZID=Europe/London:20260520T120000
DTSTAMP:20260423T190531
CREATED:20230910T161507Z
LAST-MODIFIED:20260416T113015Z
UID:6121-1779273000-1779278400@scayneshillvillage.co.uk
SUMMARY:WI Knit & Natter morning
DESCRIPTION:WI are holding their monthly Knit & Natter (or Coffee & Chat) \nWe welcome anyone to come along and join us as a visitor at the Millennium Village Centre either at our main meeting on the second Wednesday of the month at 2pm\, or for a Knit and Natter on the third Wednesday at 10:30\, or for our Crafting afternoon on the fourth Wednesday at 1:30pm. \nContact Val Fenton (07749 260067) or Mary China (07514 264003) at email scayneshillwi@wsfwi.co.uk.
URL:https://scayneshillvillage.co.uk/event/wi-meeting/
LOCATION:Millenium Village Centre
ATTACH;FMTTYPE=image/jpeg:https://scayneshillvillage.co.uk/wp-content/uploads/2022/08/WI.jpg
END:VEVENT
END:VCALENDAR