BEGIN:VCALENDAR
VERSION:2.0
PRODID:-//Scaynes Hill Village - ECPv6.15.20//NONSGML v1.0//EN
CALSCALE:GREGORIAN
METHOD:PUBLISH
X-WR-CALNAME:Scaynes Hill Village
X-ORIGINAL-URL:https://scayneshillvillage.co.uk
X-WR-CALDESC:Events for Scaynes Hill Village
REFRESH-INTERVAL;VALUE=DURATION:PT1H
X-Robots-Tag:noindex
X-PUBLISHED-TTL:PT1H
BEGIN:VTIMEZONE
TZID:UTC
BEGIN:STANDARD
TZOFFSETFROM:+0000
TZOFFSETTO:+0000
TZNAME:UTC
DTSTART:20250101T000000
END:STANDARD
END:VTIMEZONE
BEGIN:VTIMEZONE
TZID:Europe/London
BEGIN:DAYLIGHT
TZOFFSETFROM:+0000
TZOFFSETTO:+0100
TZNAME:BST
DTSTART:20240331T010000
END:DAYLIGHT
BEGIN:STANDARD
TZOFFSETFROM:+0100
TZOFFSETTO:+0000
TZNAME:GMT
DTSTART:20241027T010000
END:STANDARD
BEGIN:DAYLIGHT
TZOFFSETFROM:+0000
TZOFFSETTO:+0100
TZNAME:BST
DTSTART:20250330T010000
END:DAYLIGHT
BEGIN:STANDARD
TZOFFSETFROM:+0100
TZOFFSETTO:+0000
TZNAME:GMT
DTSTART:20251026T010000
END:STANDARD
BEGIN:DAYLIGHT
TZOFFSETFROM:+0000
TZOFFSETTO:+0100
TZNAME:BST
DTSTART:20260329T010000
END:DAYLIGHT
BEGIN:STANDARD
TZOFFSETFROM:+0100
TZOFFSETTO:+0000
TZNAME:GMT
DTSTART:20261025T010000
END:STANDARD
BEGIN:DAYLIGHT
TZOFFSETFROM:+0000
TZOFFSETTO:+0100
TZNAME:BST
DTSTART:20270328T010000
END:DAYLIGHT
BEGIN:STANDARD
TZOFFSETFROM:+0100
TZOFFSETTO:+0000
TZNAME:GMT
DTSTART:20271031T010000
END:STANDARD
END:VTIMEZONE
BEGIN:VEVENT
DTSTART;TZID=UTC:20260502T100000
DTEND;TZID=UTC:20260502T130000
DTSTAMP:20260423T221653
CREATED:20220809T100813Z
LAST-MODIFIED:20260410T185103Z
UID:2133-1777716000-1777726800@scayneshillvillage.co.uk
SUMMARY:Lindfield Repair Cafe
DESCRIPTION:Lindfield Repair Cafe is open on the first Saturday in each month. \nIn the Kids’ Room\, as always\, there will be a range of crafting activities on offer for younger members to hone their creative skills\, which we hope will equip them to become our next generation of repairers.\nChildren must be always supervised by a responsible adult. \nALL REPAIRS MUST BE CHECKED IN BY 12.3OPM PLEASE \nAndi will be parking up nearby with her Fill Good Van again this month\, so you can stock up on store cupboard essentials. Bring your empty containers to fill up! Check out her Facebook page: Fill Good and visit her website www.fillgoodstore.co.uk to see what’s available.
URL:https://scayneshillvillage.co.uk/event/lindfield-repair-cafe-2/
LOCATION:United Reform Church\, Lindfield
ATTACH;FMTTYPE=image/jpeg:https://scayneshillvillage.co.uk/wp-content/uploads/2022/08/Lindfield-Repair-Cafe.jpg
END:VEVENT
BEGIN:VEVENT
DTSTART;TZID=UTC:20260430T193000
DTEND;TZID=UTC:20260430T210000
DTSTAMP:20260423T221653
CREATED:20220805T095231Z
LAST-MODIFIED:20260416T112834Z
UID:1661-1777577400-1777582800@scayneshillvillage.co.uk
SUMMARY:Sustainability Group meeting
DESCRIPTION:Sustainability Group meeting. All welcome. Phone 831364 \nCurrent topics under discussion: \n\nAnchor pond\nFootpath drainage problems\nTalk on trees and regenerative farming\nWoodland wanders\nCommunity climate resilience
URL:https://scayneshillvillage.co.uk/event/sustainability-group-meeting/
LOCATION:Church Annexe
ATTACH;FMTTYPE=image/jpeg:https://scayneshillvillage.co.uk/wp-content/uploads/2023/04/SHSG-logodark.jpg
ORGANIZER;CN="Sustainability Group":MAILTO:cdelandelong@btinternet.com
END:VEVENT
BEGIN:VEVENT
DTSTART;TZID=Europe/London:20260429T183000
DTEND;TZID=Europe/London:20260429T194500
DTSTAMP:20260423T221653
CREATED:20221113T162421Z
LAST-MODIFIED:20260423T103300Z
UID:5337-1777487400-1777491900@scayneshillvillage.co.uk
SUMMARY:Community Choir
DESCRIPTION:Scaynes Hill Community Choir welcomes new members who love to sing. We are a friendly and informal choir\, no previous experience is necessary and all ages from 7+ to 70+ are welcome. Children under 11 should be accompanied by an adult (preferably a singing one!) and men are especially welcome.
URL:https://scayneshillvillage.co.uk/event/community-choir-2/
LOCATION:St Augustine’s Church
ATTACH;FMTTYPE=image/jpeg:https://scayneshillvillage.co.uk/wp-content/uploads/2022/11/Choir-logo2.jpg
END:VEVENT
BEGIN:VEVENT
DTSTART;TZID=UTC:20260428T100000
DTEND;TZID=UTC:20260428T120000
DTSTAMP:20260423T221653
CREATED:20220818T140430Z
LAST-MODIFIED:20260423T103448Z
UID:4139-1777370400-1777377600@scayneshillvillage.co.uk
SUMMARY:Anchor Coffee Shop
DESCRIPTION:Anchor Coffee Shop in the church annexe open every Tuesday morning for freshly brewed coffee\, selection of teas or fruit juices and home baking in a friendly atmosphere.  It’s a great place to meet up with friends and also very child friendly having plenty to offer babies and toddlers including play mats\, highchairs and toys.
URL:https://scayneshillvillage.co.uk/event/anchor-coffee-shop-11/
LOCATION:Church Annexe
ATTACH;FMTTYPE=image/png:https://scayneshillvillage.co.uk/wp-content/uploads/2022/08/coffee-cup1.png
END:VEVENT
BEGIN:VEVENT
DTSTART;TZID=Europe/London:20260428T084500
DTEND;TZID=Europe/London:20260428T100000
DTSTAMP:20260423T221653
CREATED:20250716T210755Z
LAST-MODIFIED:20260423T103601Z
UID:6785-1777365900-1777370400@scayneshillvillage.co.uk
SUMMARY:Drop Off - Drop In
DESCRIPTION:The school run is absolutely exhausting when you are trying to get everyone out of the house!  On Tuesday mornings from this autumn term St. Augustine’s Church are delighted to invite you to drop in for a hot drink\, biscuits and a space to regroup and catch up with friends. \nBabies and Pre-Schoolers are also very welcome and there will be plenty of playmats\, highchairs etc in the dedicated play area for pre-school children.
URL:https://scayneshillvillage.co.uk/event/drop-off-drop-in/
LOCATION:St. Augustine’s Church Annexe\, RH17 7NY
ATTACH;FMTTYPE=image/jpeg:https://scayneshillvillage.co.uk/wp-content/uploads/2025/07/Drop-Off-and-Drop-In-Autumn-2025.jpg
END:VEVENT
BEGIN:VEVENT
DTSTART;TZID=UTC:20260426T190000
DTEND;TZID=UTC:20260426T210000
DTSTAMP:20260423T221653
CREATED:20220818T141130Z
LAST-MODIFIED:20260410T191537Z
UID:4146-1777230000-1777237200@scayneshillvillage.co.uk
SUMMARY:Wivelsfield Film Night - Mother's Pride
DESCRIPTION:From the team behind ‘Finding Your Feet’ and ‘Fisherman’s Friends’ comes Mother’s Pride\, a story about the Harley family who after losing their matriarch\, must come together to save their pub and village\, and have their lives changed by brewing real ale and entering the Great British Beer Awards. Martin Clunes leads in this family friendly comedy. \nTickets £8 on the website or the village shop.  Doors/bar open from 6:30pm
URL:https://scayneshillvillage.co.uk/event/wivelsfield-fil-nmight/
LOCATION:Wivelsfield Village Hall
ATTACH;FMTTYPE=image/jpeg:https://scayneshillvillage.co.uk/wp-content/uploads/2022/08/Mothers-Pride.jpg
END:VEVENT
BEGIN:VEVENT
DTSTART;TZID=Europe/London:20260425T190000
DTEND;TZID=Europe/London:20260425T210000
DTSTAMP:20260423T221653
CREATED:20221003T103058Z
LAST-MODIFIED:20260423T104155Z
UID:5216-1777143600-1777150800@scayneshillvillage.co.uk
SUMMARY:Haywards Heath Music Society - Trio Archai
DESCRIPTION:Trio Archai is one of the most promising young ensembles of its generation. First Prize winners at the 2024 Royal Overseas League Competition\, the trio made its debut at Wigmore Hall the same year. Since then\, they have appeared at festivals and venues including St George’s Bristol\, Swiss Chamber Music Festival and Whittington Music Festival amongst others.\nSelected as Britten Pears Young Artists for the 2025/26 season with a residency at Snape Maltings. They are kindly sponsored by Making Music’s Philip and Dorothy Green Young Artists scheme and will play works by Beethoven\, Brahms and Jeremy Sam’s Nocturnes. The trio comprises of Mar Valor (piano)\, Ayla Sahin (violin) and Finn Mannion (cello). \nTickets £17 or £5 for Under 18/Student.  Family ticket – up to 2 adults HALF PRICE when accompanied by an Under 18. Tickets available from Christine Colbourne (01444-456227) or visit www.haywardsheathmusicsociety.org.uk
URL:https://scayneshillvillage.co.uk/event/haywards-heath-music-society-2/
LOCATION:St. Wilfrid’s Church\, Haywards Heath
ATTACH;FMTTYPE=image/jpeg:https://scayneshillvillage.co.uk/wp-content/uploads/2022/10/trio-archai.jpg
END:VEVENT
BEGIN:VEVENT
DTSTART;TZID=Europe/London:20260330T100000
DTEND;TZID=Europe/London:20260330T120000
DTSTAMP:20260423T221653
CREATED:20260224T120058Z
LAST-MODIFIED:20260224T120058Z
UID:6909-1774864800-1774872000@scayneshillvillage.co.uk
SUMMARY:Easter Fun Morning
DESCRIPTION:All Pre School and Primary children are invited to an Easter Monday Fun Morning in the Church Annexe from 10am to noon.  There will be games\, Easter Egg hunt\, make your own Easter garden\, crafts\, stories and refreshments.  To book please contact Jenny Walker on 01444-831696 or jennypwalker@gmail.com
URL:https://scayneshillvillage.co.uk/event/easter-fun-morning/
LOCATION:Church Annexe
ATTACH;FMTTYPE=image/jpeg:https://scayneshillvillage.co.uk/wp-content/uploads/2026/02/Easter-Activity-Morning-Banner-2026-scaled.jpg
END:VEVENT
BEGIN:VEVENT
DTSTART;TZID=Europe/London:20260329T020000
DTEND;TZID=Europe/London:20260329T020000
DTSTAMP:20260423T221653
CREATED:20221003T104413Z
LAST-MODIFIED:20260123T112500Z
UID:5219-1774749600-1774749600@scayneshillvillage.co.uk
SUMMARY:British Summer Time starts
DESCRIPTION:Don’t forget to put your clocks FORWARD ONE HOUR
URL:https://scayneshillvillage.co.uk/event/daylight-saving-starts/
ATTACH;FMTTYPE=image/jpeg:https://scayneshillvillage.co.uk/wp-content/uploads/2022/10/Clock-forward.jpg
END:VEVENT
BEGIN:VEVENT
DTSTART;TZID=Europe/London:20260321T140000
DTEND;TZID=Europe/London:20260321T160000
DTSTAMP:20260423T221653
CREATED:20221127T111258Z
LAST-MODIFIED:20260213T111839Z
UID:5349-1774101600-1774108800@scayneshillvillage.co.uk
SUMMARY:Flower Show & Plant Sale
DESCRIPTION:The Village Show and Plant Sale is now in its 48th year!.  The organisers are hoping that all the Spring flowers have grown well and that winter has not ben too harsh on them.  However\, if flowers are not your thing there are still plenty of other classes you could enter\, so do make that little extra effort to enter something which comes from a pastime or hobby that you do enjoy so that others can appreciate it. \nView the all important Schedule to see the entry classes and rules.  Entries must be notified to Angela Hicks (Bramlea\, Vicarage Lane\, tel: 831599) no later than 10:00 am on Thursday 19th March at the very latest but as early as possible would be appreciated.  Actual exhibits must be delivered to the Millennium Village Centre between 9-11 am on Saturday 21st March.  Entry fees are 30p per class (adults)\, 20p per class (juniors). \nAdmission:  Adults 50p\, children 25p.  Raffle & refreshments.
URL:https://scayneshillvillage.co.uk/event/flower-show-plant-sale/
LOCATION:Millenium Village Centre
ATTACH;FMTTYPE=image/jpeg:https://scayneshillvillage.co.uk/wp-content/uploads/2022/11/flowers.jpg
END:VEVENT
BEGIN:VEVENT
DTSTART;TZID=Europe/London:20260315T100000
DTEND;TZID=Europe/London:20260315T110000
DTSTAMP:20260423T221653
CREATED:20260224T114804Z
LAST-MODIFIED:20260224T114804Z
UID:6906-1773568800-1773572400@scayneshillvillage.co.uk
SUMMARY:Mothering Sunday service
DESCRIPTION:St Augustine’s Church would love to see you and your family at their Mothering Sunday service on 15th March at 10 am.  It will be a relaxed family friendly service to say thank you to all those who love and care for us.
URL:https://scayneshillvillage.co.uk/event/mothering-sunday-service/
LOCATION:St Augustine’s Church
ATTACH;FMTTYPE=image/jpeg:https://scayneshillvillage.co.uk/wp-content/uploads/2026/02/Mothering-Sunday-Poster-2026-scaled.jpg
END:VEVENT
BEGIN:VEVENT
DTSTART;TZID=Europe/London:20260312T193000
DTEND;TZID=Europe/London:20260312T210000
DTSTAMP:20260423T221653
CREATED:20260224T113942Z
LAST-MODIFIED:20260226T110221Z
UID:6902-1773343800-1773349200@scayneshillvillage.co.uk
SUMMARY:Sustainable Financial Investing
DESCRIPTION:Come to a FREE talk which will help you find your way through the jargon of financial investing in a sustainable way.  The speaker will be Steve Argent who has worked for many years in the pensions industry.  Anyone is welcome and refreshments will be provided. \nThe venue is the St Augustine’s Church Annexe in Church Road and the event is organised jointly by the Church Eco Team and the Sustainability Group.
URL:https://scayneshillvillage.co.uk/event/sustainable-financial-investing/
LOCATION:Church Annexe
ATTACH;FMTTYPE=image/jpeg:https://scayneshillvillage.co.uk/wp-content/uploads/2026/02/sustainable-financial-investing-poster.jpg
END:VEVENT
BEGIN:VEVENT
DTSTART;TZID=Europe/London:20260206T093000
DTEND;TZID=Europe/London:20260206T103000
DTSTAMP:20260423T221653
CREATED:20250813T201630Z
LAST-MODIFIED:20260123T112259Z
UID:6808-1770370200-1770373800@scayneshillvillage.co.uk
SUMMARY:Police Beat Surgery
DESCRIPTION:Crime Prevention & Beat Surgery – Leaflets\, Information and Signposting.  Come and meet your local Bobby and find out more about crime prevention.
URL:https://scayneshillvillage.co.uk/event/police-beat-surgery/
LOCATION:Millenium Village Centre
END:VEVENT
BEGIN:VEVENT
DTSTART;TZID=Europe/London:20260117T193000
DTEND;TZID=Europe/London:20260117T230000
DTSTAMP:20260423T221653
CREATED:20250113T124544Z
LAST-MODIFIED:20251027T130830Z
UID:6584-1768678200-1768690800@scayneshillvillage.co.uk
SUMMARY:Barn Dance
DESCRIPTION:Come and join the annual village Barn Dance.  This is a not-for-profit event and tickets include a pizza (margherita\, chicken\, pepperoni or vegetarian) to keep you going but bring your own drinks and glasses.  There will also be the usual raffle. \nFor further information or tickets contact Rob Minter  at robertminter1@hotmail.com or WhatsApp 07552-596776.
URL:https://scayneshillvillage.co.uk/event/barn-dance/
LOCATION:Millenium Village Centre
ATTACH;FMTTYPE=image/jpeg:https://scayneshillvillage.co.uk/wp-content/uploads/2022/11/Barn-dance.jpg
END:VEVENT
BEGIN:VEVENT
DTSTART;VALUE=DATE:20251225
DTEND;VALUE=DATE:20251226
DTSTAMP:20260423T221653
CREATED:20251218T105116Z
LAST-MODIFIED:20251218T105116Z
UID:6880-1766620800-1766707199@scayneshillvillage.co.uk
SUMMARY:CHRISTMAS DAY
DESCRIPTION:We would like to wish everyone in Scaynes Hill a very Happy Christmas.  May you all enjoy the day\, hopefully surrounded by family and friends.  Have a thought for any neighbours who might be on their own over Christmas – pop in to say hello and a chat to show they are not forgotten.
URL:https://scayneshillvillage.co.uk/event/christmas-day/
ATTACH;FMTTYPE=image/jpeg:https://scayneshillvillage.co.uk/wp-content/uploads/2025/12/Christmas-icon.jpg
END:VEVENT
BEGIN:VEVENT
DTSTART;TZID=Europe/London:20251224T160000
DTEND;TZID=Europe/London:20251224T170000
DTSTAMP:20260423T221653
CREATED:20251218T104223Z
LAST-MODIFIED:20251218T104223Z
UID:6877-1766592000-1766595600@scayneshillvillage.co.uk
SUMMARY:Christmas Crib Service
DESCRIPTION:We would love for you and all your family to join us at our Christmas Crib service.  All are welcome.
URL:https://scayneshillvillage.co.uk/event/christmas-crib-service/
LOCATION:St Augustine’s Church
END:VEVENT
BEGIN:VEVENT
DTSTART;TZID=Europe/London:20251221T180000
DTEND;TZID=Europe/London:20251221T190000
DTSTAMP:20260423T221653
CREATED:20221113T110742Z
LAST-MODIFIED:20251218T103702Z
UID:5281-1766340000-1766343600@scayneshillvillage.co.uk
SUMMARY:Carols by Candlelight
DESCRIPTION:There will be a Candlelit Carol service in St. Augustine’s Church.  If you like to usher in Christmas with a few carols this is the way to do it\, both listening to the Community Choir and joining in with some of the carols.  Everyone is most welcome to come and join in!
URL:https://scayneshillvillage.co.uk/event/st-augustines-church-christmas-fayre/
LOCATION:St Augustine’s Church
END:VEVENT
BEGIN:VEVENT
DTSTART;TZID=Europe/London:20251208T160000
DTEND;TZID=Europe/London:20251208T170000
DTSTAMP:20260423T221653
CREATED:20251027T123402Z
LAST-MODIFIED:20251027T123402Z
UID:6849-1765209600-1765213200@scayneshillvillage.co.uk
SUMMARY:Christingle Service
DESCRIPTION:You are warmly invited to join us at our Christingle Service on Monday 8th December at 4:00 pm.  All are very welcome.
URL:https://scayneshillvillage.co.uk/event/christingle-service/
LOCATION:St Augustine’s Church
END:VEVENT
BEGIN:VEVENT
DTSTART;TZID=Europe/London:20251129T163000
DTEND;TZID=Europe/London:20251129T173000
DTSTAMP:20260423T221653
CREATED:20251027T121812Z
LAST-MODIFIED:20251121T133647Z
UID:6841-1764433800-1764437400@scayneshillvillage.co.uk
SUMMARY:Village Christmas Tree Lighting
DESCRIPTION:Everyone is cordially invited to join us for the annual lighting of the village Christmas tree on Saturday 29th November at 4.30 pm – please see attached flyer. \nWe will start proceedings by serving free hot dogs and this will be followed by the grand switch-on of the lights with some carols around the tree. \nAfter this\, we will move back inside where there will be stalls to enjoy and mulled wine and mince pies and treats for children will be served. \nWe would love to see you at this lovely start to the Christmas season – everyone is very welcome.
URL:https://scayneshillvillage.co.uk/event/village-christmas-tree-lighting/
LOCATION:St Augustine’s Church
END:VEVENT
BEGIN:VEVENT
DTSTART;TZID=Europe/London:20251122T110000
DTEND;TZID=Europe/London:20251122T150000
DTSTAMP:20260423T221653
CREATED:20251121T130759Z
LAST-MODIFIED:20251121T130759Z
UID:6862-1763809200-1763823600@scayneshillvillage.co.uk
SUMMARY:Charity Christmas Market
DESCRIPTION:There will be stalls\, refreshments and a raffle.  Come and support the various charities and get yourself some Christmas gifts.  Hope to see you there!
URL:https://scayneshillvillage.co.uk/event/charity-christmas-market/
LOCATION:Millenium Village Centre
END:VEVENT
BEGIN:VEVENT
DTSTART;TZID=Europe/London:20251121T190000
DTEND;TZID=Europe/London:20251121T210000
DTSTAMP:20260423T221653
CREATED:20251027T124819Z
LAST-MODIFIED:20251027T125025Z
UID:6852-1763751600-1763758800@scayneshillvillage.co.uk
SUMMARY:Concert of Celtish music
DESCRIPTION:As individual artists Nigel and Julie have both had long established experience recording and performing Celtic-influenced music at home and abroad. Working together as a married couple since 2014\, they have recorded six ‘Celtish’ albums and have traveled extensively\, sometimes with other musicians\, using ‘Celtish’ as their band name. \nThey play a range of upbeat and reflective music\, instrumentals\, original songs and familiar lyrics set to timeless melodies. As well as introducing songs with personal testimonies they often share stories about the Celtic Saints and songs based on what they have learned about them. \nAdmission is FREE but a donation of £5 is suggested. \nFor further information see https://www.soundsofwonder.org/artists/celtish/
URL:https://scayneshillvillage.co.uk/event/concert-of-celtish-music/
LOCATION:St Augustine’s Church
END:VEVENT
BEGIN:VEVENT
DTSTART;TZID=Europe/London:20251109T101500
DTEND;TZID=Europe/London:20251109T113000
DTSTAMP:20260423T221653
CREATED:20251027T121026Z
LAST-MODIFIED:20251027T122414Z
UID:6838-1762683300-1762687800@scayneshillvillage.co.uk
SUMMARY:Service of Remembrance
DESCRIPTION:All are welcome to join us at our Service of Remembrance.  During the service we will unite around the War Memorial in an Act of Remembrance to commemorate the sacrifice and service of everyone in the two World Wars and also all those in more recent conflicts.
URL:https://scayneshillvillage.co.uk/event/service-of-remembrance-2/
LOCATION:St Augustine’s Church
END:VEVENT
BEGIN:VEVENT
DTSTART;TZID=Europe/London:20251105T190000
DTEND;TZID=Europe/London:20251105T210000
DTSTAMP:20260423T221653
CREATED:20241028T235249Z
LAST-MODIFIED:20251027T122855Z
UID:6509-1762369200-1762376400@scayneshillvillage.co.uk
SUMMARY:Lindfield Fireworks
DESCRIPTION:This year Lindfield Bonfire Society is holding its celebration on Wednesday 5th November. \nThe evening of our free-to-attend celebration starts with a torchlight procession around Lindfield\, which heads onto the Common for the reading of the Bonfire Prayer and then the lighting of the bonfire. We finish the evening with our grand firework display.  the event is FREE but please do make a donation to one of our collectors on the night. \nProgramme of Events* \n7.00pm – Procession form up – outside of The Standup Inn\, Lindfield High Street\n7.30pm – Torchlight Procession – through the village\n8.30pm – Lighting of the Bonfire – preceded by the Traditional Bonfire Prayer\n8.45pm – Grand Firework Display – on Lindfield Common\n9.00pm – End of show\n*All timings are approximate and subject to weather conditions.
URL:https://scayneshillvillage.co.uk/event/lindfield-fireworks/
LOCATION:Lindfield Common
ATTACH;FMTTYPE=image/jpeg:https://scayneshillvillage.co.uk/wp-content/uploads/2024/10/fireworks.jpg
ORGANIZER;CN="Lindfield Bonfire Society":MAILTO:lindfieldbonfiresoc@gmail.com
END:VEVENT
BEGIN:VEVENT
DTSTART;TZID=Europe/London:20251103T150000
DTEND;TZID=Europe/London:20251103T170000
DTSTAMP:20260423T221653
CREATED:20250716T202101Z
LAST-MODIFIED:20251024T120406Z
UID:6769-1762182000-1762189200@scayneshillvillage.co.uk
SUMMARY:Funday Monday - Angels
DESCRIPTION:For all children up to Year 6 with their parents/carers there will be Lego\, Games\, Craft Activities\, Bible Stories\, Tasty Hot Meal and Delicious Dessert.  This month the theme is ‘Angels’. \nBook this FREE session at sash.parishoffice@gmail.com or through the school for St. Augustine’s pupils.  For further information contact Jenny Walker on jennypwalker@gmail.com or 01444-831696.
URL:https://scayneshillvillage.co.uk/event/funday-monday-fishy-tales-morning/
LOCATION:St. Augustine’s Church Annexe\, RH17 7NY
ATTACH;FMTTYPE=image/jpeg:https://scayneshillvillage.co.uk/wp-content/uploads/2025/07/2025-2026-Funday-Monday.jpg
END:VEVENT
BEGIN:VEVENT
DTSTART;TZID=Europe/London:20251102T150000
DTEND;TZID=Europe/London:20251102T160000
DTSTAMP:20260423T221653
CREATED:20251027T120234Z
LAST-MODIFIED:20251027T120234Z
UID:6835-1762095600-1762099200@scayneshillvillage.co.uk
SUMMARY:All Souls Service
DESCRIPTION:A time to remember with love.  We will listen to comforting words\, sing familiar hymns\, offer prayers and light a candle.  All welcome
URL:https://scayneshillvillage.co.uk/event/all-souls-service-2/
LOCATION:St Augustine’s Church
END:VEVENT
BEGIN:VEVENT
DTSTART;TZID=Europe/London:20251028T100000
DTEND;TZID=Europe/London:20251028T120000
DTSTAMP:20260423T221653
CREATED:20251027T114029Z
LAST-MODIFIED:20251027T114029Z
UID:6832-1761645600-1761652800@scayneshillvillage.co.uk
SUMMARY:Woodland Activity Morning
DESCRIPTION:Meet at 10am at the Church for a self-guided walk in Costells Wood.  Anyone is welcome to join in with the walk and /or in the Church and annexe for woodland crafts and refreshments.
URL:https://scayneshillvillage.co.uk/event/woodland-activity-morning/
LOCATION:St Augustine’s Church
END:VEVENT
BEGIN:VEVENT
DTSTART;TZID=Europe/London:20251026T010000
DTEND;TZID=Europe/London:20251026T010000
DTSTAMP:20260423T221653
CREATED:20231001T205129Z
LAST-MODIFIED:20250920T093728Z
UID:6138-1761440400-1761440400@scayneshillvillage.co.uk
SUMMARY:British Summer Time ends
DESCRIPTION:Don’t forget to put your clocks BACK ONE HOUR
URL:https://scayneshillvillage.co.uk/event/british-summer-time-ends/
ATTACH;FMTTYPE=image/jpeg:https://scayneshillvillage.co.uk/wp-content/uploads/2022/10/Clock-back.jpg
END:VEVENT
BEGIN:VEVENT
DTSTART;TZID=Europe/London:20251018T150000
DTEND;TZID=Europe/London:20251018T163000
DTSTAMP:20260423T221653
CREATED:20230202T113757Z
LAST-MODIFIED:20250920T095921Z
UID:5478-1760799600-1760805000@scayneshillvillage.co.uk
SUMMARY:Haywards Heath Music Society - Milo Harper (Harp)
DESCRIPTION:Milo Harper (harp) with Frederico Paixão (flute) and Angus McCall (cello).\nBased between Berlin and London\, Milo performs with the Berlin State Opera as the Harp Akademist for the 2024-2026 seasons. He has performed with orchestras including the Philharmonia\, London Philharmonic Orchestra\, Britten Sinfonia and English Touring Opera. As a soloist\, Milo has won several harp competitions and toured globally in the UK\, Germany\, Switzerland\, Hong Kong\, and Singapore. His trio with cello and flute is particularly appealing\, playing from a wide repertoire of celebrated and underrepresented composers that showcases the harp’s full potential. \nVenue: HH Methodist Church\, 3PM (Please note early start time for this concert) \nTickets £17.00.    Under 18/Student: £5.00.  Season (all 6 concerts): £70 \nAvailable from Christine Colbourne\, Honarary Secretary 01444-456227.
URL:https://scayneshillvillage.co.uk/event/haywards-heath-music-society/
LOCATION:Methodist Church\, 28 Perrymount Road\, Haywards Heath
END:VEVENT
BEGIN:VEVENT
DTSTART;TZID=Europe/London:20250923T080000
DTEND;TZID=Europe/London:20250923T170000
DTSTAMP:20260423T221653
CREATED:20230708T111310Z
LAST-MODIFIED:20250920T093108Z
UID:5761-1758614400-1758646800@scayneshillvillage.co.uk
SUMMARY:Fruit & Veg stall
DESCRIPTION:Yes – the barrow with the stripy awning for the Fruit & Veg share scheme is back again for another year! \nIt will be outside the church every Tuesday from 8am to 6 pm until the end of September. Any surplus produce – leave it on the stall outside the church.  Anything you can use – just take it!  No money involved but it would be good if you could record your use on the whiteboard there so we get to see how many people use the scheme.
URL:https://scayneshillvillage.co.uk/event/fruit-veg-stall/
LOCATION:St Augustine’s Church
ATTACH;FMTTYPE=image/jpeg:https://scayneshillvillage.co.uk/wp-content/uploads/2022/08/FruitVeg-scaled.jpg
ORGANIZER;CN="Sustainability Group":MAILTO:cdelandelong@btinternet.com
END:VEVENT
BEGIN:VEVENT
DTSTART;TZID=Europe/London:20250914T100000
DTEND;TZID=Europe/London:20250914T110000
DTSTAMP:20260423T221653
CREATED:20250716T204437Z
LAST-MODIFIED:20250716T204437Z
UID:6781-1757844000-1757847600@scayneshillvillage.co.uk
SUMMARY:St. Augustine's Church - Pet Service
DESCRIPTION:Bring your pet to church!  There will be a retiring collection in aid of Raystede Animal Welfare Centre. \nFor more information contact Debbie Martin on sash.parishoffice@gmail.com
URL:https://scayneshillvillage.co.uk/event/st-augustines-church-pet-service/
LOCATION:St Augustine’s Church
END:VEVENT
END:VCALENDAR