BEGIN:VCALENDAR
VERSION:2.0
PRODID:-//Scaynes Hill Village - ECPv6.15.20//NONSGML v1.0//EN
CALSCALE:GREGORIAN
METHOD:PUBLISH
X-ORIGINAL-URL:https://scayneshillvillage.co.uk
X-WR-CALDESC:Events for Scaynes Hill Village
REFRESH-INTERVAL;VALUE=DURATION:PT1H
X-Robots-Tag:noindex
X-PUBLISHED-TTL:PT1H
BEGIN:VTIMEZONE
TZID:Europe/London
BEGIN:DAYLIGHT
TZOFFSETFROM:+0000
TZOFFSETTO:+0100
TZNAME:BST
DTSTART:20250330T010000
END:DAYLIGHT
BEGIN:STANDARD
TZOFFSETFROM:+0100
TZOFFSETTO:+0000
TZNAME:GMT
DTSTART:20251026T010000
END:STANDARD
BEGIN:DAYLIGHT
TZOFFSETFROM:+0000
TZOFFSETTO:+0100
TZNAME:BST
DTSTART:20260329T010000
END:DAYLIGHT
BEGIN:STANDARD
TZOFFSETFROM:+0100
TZOFFSETTO:+0000
TZNAME:GMT
DTSTART:20261025T010000
END:STANDARD
BEGIN:DAYLIGHT
TZOFFSETFROM:+0000
TZOFFSETTO:+0100
TZNAME:BST
DTSTART:20270328T010000
END:DAYLIGHT
BEGIN:STANDARD
TZOFFSETFROM:+0100
TZOFFSETTO:+0000
TZNAME:GMT
DTSTART:20271031T010000
END:STANDARD
END:VTIMEZONE
BEGIN:VEVENT
DTSTART;TZID=Europe/London:20260527T133000
DTEND;TZID=Europe/London:20260527T160000
DTSTAMP:20260424T005603
CREATED:20240606T140517Z
LAST-MODIFIED:20260423T103417Z
UID:6344-1779888600-1779897600@scayneshillvillage.co.uk
SUMMARY:WI Crafts afternoon
DESCRIPTION:WI are holding their monthly Crafts afternoon. \nWe welcome anyone to come along and join us as a visitor at the Millennium Village Centre either at our main meeting on the second Wednesday of the month at 2pm\, or for a Knit and Natter on the third Wednesday at 10:30\, or for our Crafting afternoon on the fourth Wednesday at 1:30pm. \nContact Val Fenton (07749 260067) or Mary China (07514 264003) at email scayneshillwi@wsfwi.co.uk
URL:https://scayneshillvillage.co.uk/event/wi-crafts-afternoon-macrame/
LOCATION:Millenium Village Centre
ATTACH;FMTTYPE=image/jpeg:https://scayneshillvillage.co.uk/wp-content/uploads/2022/08/WI.jpg
END:VEVENT
BEGIN:VEVENT
DTSTART;TZID=Europe/London:20260622T193000
DTEND;TZID=Europe/London:20260622T213000
DTSTAMP:20260424T005603
CREATED:20231017T191109Z
LAST-MODIFIED:20260410T185513Z
UID:6157-1782156600-1782163800@scayneshillvillage.co.uk
SUMMARY:LRPC Meeting
DESCRIPTION:Lindfield Rural Parish Council (LRPC) is the closest tier of local government to residents of Scaynes Hill\, Walstead and part of Lindfield.  All members of the public are entitled to attend LRPC meetings and are cordially invited by the Council to do so. Time will be set aside prior to the published agenda to enable any questions from the public about Council business and informal discussion to take place.  The rest of the meeting is in public but members of the public cannot speak during this time. \nThe Agenda can be seen 3 days before the meeting at https://lindfieldrural-pc.gov.uk/category/agendas/
URL:https://scayneshillvillage.co.uk/event/lrpc-meeting-2/
LOCATION:Walstead Chapel\, Burial Ground\, East Mascalls Lane
ATTACH;FMTTYPE=image/jpeg:https://scayneshillvillage.co.uk/wp-content/uploads/2023/10/LRPC-Walstead-Chapel.jpg
END:VEVENT
END:VCALENDAR