BEGIN:VCALENDAR
VERSION:2.0
PRODID:-//Scaynes Hill Village - ECPv6.15.20//NONSGML v1.0//EN
CALSCALE:GREGORIAN
METHOD:PUBLISH
X-WR-CALNAME:Scaynes Hill Village
X-ORIGINAL-URL:https://scayneshillvillage.co.uk
X-WR-CALDESC:Events for Scaynes Hill Village
REFRESH-INTERVAL;VALUE=DURATION:PT1H
X-Robots-Tag:noindex
X-PUBLISHED-TTL:PT1H
BEGIN:VTIMEZONE
TZID:Europe/London
BEGIN:DAYLIGHT
TZOFFSETFROM:+0000
TZOFFSETTO:+0100
TZNAME:BST
DTSTART:20240331T010000
END:DAYLIGHT
BEGIN:STANDARD
TZOFFSETFROM:+0100
TZOFFSETTO:+0000
TZNAME:GMT
DTSTART:20241027T010000
END:STANDARD
BEGIN:DAYLIGHT
TZOFFSETFROM:+0000
TZOFFSETTO:+0100
TZNAME:BST
DTSTART:20250330T010000
END:DAYLIGHT
BEGIN:STANDARD
TZOFFSETFROM:+0100
TZOFFSETTO:+0000
TZNAME:GMT
DTSTART:20251026T010000
END:STANDARD
BEGIN:DAYLIGHT
TZOFFSETFROM:+0000
TZOFFSETTO:+0100
TZNAME:BST
DTSTART:20260329T010000
END:DAYLIGHT
BEGIN:STANDARD
TZOFFSETFROM:+0100
TZOFFSETTO:+0000
TZNAME:GMT
DTSTART:20261025T010000
END:STANDARD
END:VTIMEZONE
BEGIN:VEVENT
DTSTART;TZID=Europe/London:20250628T110000
DTEND;TZID=Europe/London:20250628T150000
DTSTAMP:20260424T010411
CREATED:20250617T101926Z
LAST-MODIFIED:20250617T101926Z
UID:6718-1751108400-1751122800@scayneshillvillage.co.uk
SUMMARY:Farm Open Event
DESCRIPTION:Come and see the animals\, feed the lambs and much more!  There will be BBQ food from 12 noon\, a coffee trailer\, cake stall\, elderflower cordial\, wood products\, farm games and a treaure hunt with prizes. \nEntry: Adults £3\, Children £2\, under 4s Free \nContact Kazi on 07398 573255 or Sharon on 07551 662676 for more details. \nSDG Farm\, Ham Lane\, Scaynes Hill – follow the signs.
URL:https://scayneshillvillage.co.uk/event/farm-open-event/
END:VEVENT
BEGIN:VEVENT
DTSTART;TZID=Europe/London:20250625T193000
DTEND;TZID=Europe/London:20250625T213000
DTSTAMP:20260424T010411
CREATED:20230708T121733Z
LAST-MODIFIED:20250624T091043Z
UID:5766-1750879800-1750887000@scayneshillvillage.co.uk
SUMMARY:Scaynes Hill Village Centre Trust - AGM
DESCRIPTION:The Scaynes Hill Village Centre Trust are holding their 25th Annual General Meeting in the Millard Hall.  Residents of Lindfield Rural Parish are welcome to attend.  Wine/juice will be served from 7:30pm. \nPlease notify Sue Minter (Secretary)\, in writing\, of any trustee nominations\, resolutions or recommendations for discussion by 11th June 2025 (book@scayneshillcentre.org)
URL:https://scayneshillvillage.co.uk/event/scaynes-hill-village-centre-trust-agm/
LOCATION:Millenium Village Centre
ATTACH;FMTTYPE=image/jpeg:https://scayneshillvillage.co.uk/wp-content/uploads/2022/08/Millennium-Centre-1-scaled.jpg
ORGANIZER;CN="Millennium Village Centre Trust":MAILTO:book@scayneshillcentre.org
END:VEVENT
BEGIN:VEVENT
DTSTART;TZID=Europe/London:20250621T200000
DTEND;TZID=Europe/London:20250621T230000
DTSTAMP:20260424T010411
CREATED:20250525T145128Z
LAST-MODIFIED:20250525T145128Z
UID:6698-1750536000-1750546800@scayneshillvillage.co.uk
SUMMARY:Summer's Longest Day
DESCRIPTION:Scaynes Hill Social & Sports Club in conjunction with Island Mediterranean Promotions present ‘Summer’s Longest Day’\, a selection of underground beats new and old\, brought to you by DJs Statch & Lodge. Entry £5 open to all 18+ (members and non-members).  Members get a FREE shot.  All entry fees donated to St Peter and St James Hospice.
URL:https://scayneshillvillage.co.uk/event/summers-longest-day/
LOCATION:Scaynes Hill Social Club\, Church Road\, Scaynes Hill\, West Sussex\, RH17 7NH\, United Kingdom
END:VEVENT
BEGIN:VEVENT
DTSTART;TZID=Europe/London:20250614T130000
DTEND;TZID=Europe/London:20250614T173000
DTSTAMP:20260424T010411
CREATED:20250529T210057Z
LAST-MODIFIED:20250529T210057Z
UID:6703-1749906000-1749922200@scayneshillvillage.co.uk
SUMMARY:Open Gardens
DESCRIPTION:Explore the Scaynes Hill Village garden trail in aid of St. Peter and St. James Hospice.  Discover a stunning collection of private gardens of various sizes and designs; anticipate vibrant borders and patio pots\, wildlife friendly areas\, vegetable plots\, and an impressive array of roses. \nWith refreshments and a plant sale too! \nStart at Pinefield\, Church Road RH17 7NY.  Entry to all 8 gardens £6.
URL:https://scayneshillvillage.co.uk/event/open-gardens/
LOCATION:St Augustine’s Church
ATTACH;FMTTYPE=image/jpeg:https://scayneshillvillage.co.uk/wp-content/uploads/2025/05/Open-gardens-scaled.jpg
END:VEVENT
BEGIN:VEVENT
DTSTART;TZID=Europe/London:20250614T100000
DTEND;TZID=Europe/London:20250615T170000
DTSTAMP:20260424T010411
CREATED:20250529T221241Z
LAST-MODIFIED:20250529T221324Z
UID:6707-1749895200-1750006800@scayneshillvillage.co.uk
SUMMARY:High Weald Steam Working Weekend
DESCRIPTION:Visit the biggest working steam event in Sussex.  A steamy working weekend with lots to see making for a great family day out on Father’s Day.  Over 40 steam engines will be there.  Open on both days from 10am to 5pm. \nLocation:  Freshfield Farm\, Sloop Lane\, Scaynes Hill RH17 7NP \nWhat 3 Words: alarm.secrets.ringside
URL:https://scayneshillvillage.co.uk/event/high-weald-steam-working-weekend/
ATTACH;FMTTYPE=image/png:https://scayneshillvillage.co.uk/wp-content/uploads/2025/05/Tractor.png
END:VEVENT
BEGIN:VEVENT
DTSTART;TZID=Europe/London:20250604T200000
DTEND;TZID=Europe/London:20250604T220000
DTSTAMP:20260424T010411
CREATED:20250525T144139Z
LAST-MODIFIED:20250525T144139Z
UID:6692-1749067200-1749074400@scayneshillvillage.co.uk
SUMMARY:Pub Quiz Night
DESCRIPTION:Come and join us for a fun-filled night of trivia.  Teams of up to 6 people – £2/head. \nCash prizes for the winning team and runners up. \nLisa’s famous chili con carne and a pint for just £8.
URL:https://scayneshillvillage.co.uk/event/pub-quiz-night/
LOCATION:Scaynes Hill Social Club\, Church Road\, Scaynes Hill\, West Sussex\, RH17 7NH\, United Kingdom
END:VEVENT
BEGIN:VEVENT
DTSTART;TZID=Europe/London:20250531T120000
DTEND;TZID=Europe/London:20250531T170000
DTSTAMP:20260424T010411
CREATED:20230522T104512Z
LAST-MODIFIED:20250525T141811Z
UID:5661-1748692800-1748710800@scayneshillvillage.co.uk
SUMMARY:Lindfield Village Day
DESCRIPTION:Celebrating its 47th year in 2025\, the event expects to include the following: over 130 stalls on the Common\, the Grand Competition Tent\, a children’s dog show\, a tasty Food & Drink Quarter (also on the Common)\, soft play area and an arena for events/games during the afternoon.  The Firing of the Anvil on the Common at noon will kick off proceedings and the start procession from Hickmans Lane Playing Field down the High Street – featuring hundreds of villagers making their way to the Common.  Do come along and join in the fun.
URL:https://scayneshillvillage.co.uk/event/lindfield-village-day/
LOCATION:Lindfield Common
END:VEVENT
BEGIN:VEVENT
DTSTART;TZID=Europe/London:20250521T193000
DTEND;TZID=Europe/London:20250521T210000
DTSTAMP:20260424T010411
CREATED:20250411T111634Z
LAST-MODIFIED:20250411T111634Z
UID:6678-1747855800-1747861200@scayneshillvillage.co.uk
SUMMARY:Annual Parish Meeting
DESCRIPTION:This annual meeting of Lindfield Rural Parish Council (LRPC) is to inform parishioners about what LRPC have achieved over the year and plans for the future.  There will be presentations from LRPC followed by a Question & Answer session.  All residents are invited to come and will be welcomed by a complementary glass of wine or juice.
URL:https://scayneshillvillage.co.uk/event/annual-parish-meeting/
LOCATION:Millenium Village Centre
ATTACH;FMTTYPE=image/jpeg:https://scayneshillvillage.co.uk/wp-content/uploads/2022/08/Millennium-Centre-1-scaled.jpg
END:VEVENT
BEGIN:VEVENT
DTSTART;TZID=Europe/London:20250426T140000
DTEND;TZID=Europe/London:20250426T170000
DTSTAMP:20260424T010411
CREATED:20250321T152910Z
LAST-MODIFIED:20250321T152910Z
UID:6655-1745676000-1745686800@scayneshillvillage.co.uk
SUMMARY:Welcome to our Woods Day
DESCRIPTION:This FREE event is organised jointly by Scaynes Hill Sustainability Group and St Augustine’s Church Ecoteam.  There will be a range of activities on offer to explore the woods and to help everyone feel at home there. \n\nUse map reading skills to navigate the woods and find clues to complete the challenge (maps provided) – a great way to develop the confidence to explore and enjoy the woods\nAll age craft activities using natural materials – in the woods or in church if weather is poor. Create ‘bumblebees in flight’\, clay plaques with leaf impressions to your own design\, and story wands and ‘sticky pictures’ as mementos of the journey round the woodland paths.\nGet a little way off the beaten track and take the time to sit for a while and absorb the sounds and the stillness of the woodland world.\n\nVolunteers will be on hand to guide visitors. \nTea\, coffee and homemade cakes will be available in St Augustine’s Church annexe. \nUnder sixteens must be accompanied by a responsible adult. \nAlthough this event is FREE\, booking is necessary as numbers may have to be limited\, so book early to avoid disappointment.  For more details and to book do one of the following: \n\nClick here to go directly to the Eventbrite entry\nGo to Eventbrite.co.uk and search for “Welcome to our Woods Day”\nContact Cilla on 01444-831364\n\nWith kind permission from the Woodland Trust for the use of Costells Wood.
URL:https://scayneshillvillage.co.uk/event/welcome-to-our-woods-day/
LOCATION:Scaynes Hill Common\, Church Road\, Scaynes Hill\, West Sussex\, RH17 7NH\, United Kingdom
ORGANIZER;CN="Sustainability Group":MAILTO:cdelandelong@btinternet.com
END:VEVENT
END:VCALENDAR