BEGIN:VCALENDAR
VERSION:2.0
PRODID:-//Scaynes Hill Village - ECPv6.15.20//NONSGML v1.0//EN
CALSCALE:GREGORIAN
METHOD:PUBLISH
X-WR-CALNAME:Scaynes Hill Village
X-ORIGINAL-URL:https://scayneshillvillage.co.uk
X-WR-CALDESC:Events for Scaynes Hill Village
REFRESH-INTERVAL;VALUE=DURATION:PT1H
X-Robots-Tag:noindex
X-PUBLISHED-TTL:PT1H
BEGIN:VTIMEZONE
TZID:Europe/London
BEGIN:DAYLIGHT
TZOFFSETFROM:+0000
TZOFFSETTO:+0100
TZNAME:BST
DTSTART:20240331T010000
END:DAYLIGHT
BEGIN:STANDARD
TZOFFSETFROM:+0100
TZOFFSETTO:+0000
TZNAME:GMT
DTSTART:20241027T010000
END:STANDARD
BEGIN:DAYLIGHT
TZOFFSETFROM:+0000
TZOFFSETTO:+0100
TZNAME:BST
DTSTART:20250330T010000
END:DAYLIGHT
BEGIN:STANDARD
TZOFFSETFROM:+0100
TZOFFSETTO:+0000
TZNAME:GMT
DTSTART:20251026T010000
END:STANDARD
BEGIN:DAYLIGHT
TZOFFSETFROM:+0000
TZOFFSETTO:+0100
TZNAME:BST
DTSTART:20260329T010000
END:DAYLIGHT
BEGIN:STANDARD
TZOFFSETFROM:+0100
TZOFFSETTO:+0000
TZNAME:GMT
DTSTART:20261025T010000
END:STANDARD
END:VTIMEZONE
BEGIN:VTIMEZONE
TZID:UTC
BEGIN:STANDARD
TZOFFSETFROM:+0000
TZOFFSETTO:+0000
TZNAME:UTC
DTSTART:20240101T000000
END:STANDARD
END:VTIMEZONE
BEGIN:VEVENT
DTSTART;TZID=Europe/London:20250717T193000
DTEND;TZID=Europe/London:20250717T210000
DTSTAMP:20260424T055427
CREATED:20250617T102949Z
LAST-MODIFIED:20250617T104525Z
UID:6721-1752780600-1752786000@scayneshillvillage.co.uk
SUMMARY:Should I be considering a Heat Pump?
DESCRIPTION:Come and hear two Heat Pump owners talk about the pros and cons of these devices from the very basics to their experiences of taking the first steps through to installation and optimising operation. \nThere will be plenty of time for questions and discussion. It will also be possible to arrange for subsequent visits to these homes for anyone interested as well as get advice about suitability of your own home for a heat pump.
URL:https://scayneshillvillage.co.uk/event/should-i-be-considering-a-heat-pump/
LOCATION:St Augustine’s Church
ORGANIZER;CN="Sustainability Group":MAILTO:cdelandelong@btinternet.com
END:VEVENT
BEGIN:VEVENT
DTSTART;TZID=UTC:20250729T100000
DTEND;TZID=UTC:20250729T120000
DTSTAMP:20260424T055427
CREATED:20220818T135224Z
LAST-MODIFIED:20250714T211111Z
UID:4121-1753783200-1753790400@scayneshillvillage.co.uk
SUMMARY:Anchor Coffee Shop - Last one before summer break
DESCRIPTION:Make the most of the Anchor Coffee Shop before the summer break.  The Coffee Shop will open again for business as usual on Tuesday 2nd September. \nAnchor Coffee Shop in the church annexe open every Tuesday morning for freshly brewed coffee\, selection of teas or fruit juices and home baking in a friendly atmosphere.  It’s a great place to meet up with friends and also very child friendly having plenty to offer babies and toddlers including play mats\, highchairs and toys.
URL:https://scayneshillvillage.co.uk/event/anchor-coffee-shop-5/
LOCATION:Church Annexe
ATTACH;FMTTYPE=image/png:https://scayneshillvillage.co.uk/wp-content/uploads/2022/08/coffee-cup1.png
END:VEVENT
END:VCALENDAR