BEGIN:VCALENDAR
VERSION:2.0
PRODID:-//Scaynes Hill Village - ECPv6.15.20//NONSGML v1.0//EN
CALSCALE:GREGORIAN
METHOD:PUBLISH
X-ORIGINAL-URL:https://scayneshillvillage.co.uk
X-WR-CALDESC:Events for Scaynes Hill Village
REFRESH-INTERVAL;VALUE=DURATION:PT1H
X-Robots-Tag:noindex
X-PUBLISHED-TTL:PT1H
BEGIN:VTIMEZONE
TZID:Europe/London
BEGIN:DAYLIGHT
TZOFFSETFROM:+0000
TZOFFSETTO:+0100
TZNAME:BST
DTSTART:20240331T010000
END:DAYLIGHT
BEGIN:STANDARD
TZOFFSETFROM:+0100
TZOFFSETTO:+0000
TZNAME:GMT
DTSTART:20241027T010000
END:STANDARD
BEGIN:DAYLIGHT
TZOFFSETFROM:+0000
TZOFFSETTO:+0100
TZNAME:BST
DTSTART:20250330T010000
END:DAYLIGHT
BEGIN:STANDARD
TZOFFSETFROM:+0100
TZOFFSETTO:+0000
TZNAME:GMT
DTSTART:20251026T010000
END:STANDARD
BEGIN:DAYLIGHT
TZOFFSETFROM:+0000
TZOFFSETTO:+0100
TZNAME:BST
DTSTART:20260329T010000
END:DAYLIGHT
BEGIN:STANDARD
TZOFFSETFROM:+0100
TZOFFSETTO:+0000
TZNAME:GMT
DTSTART:20261025T010000
END:STANDARD
END:VTIMEZONE
BEGIN:VEVENT
DTSTART;TZID=Europe/London:20251102T150000
DTEND;TZID=Europe/London:20251102T160000
DTSTAMP:20260423T235107
CREATED:20251027T120234Z
LAST-MODIFIED:20251027T120234Z
UID:6835-1762095600-1762099200@scayneshillvillage.co.uk
SUMMARY:All Souls Service
DESCRIPTION:A time to remember with love.  We will listen to comforting words\, sing familiar hymns\, offer prayers and light a candle.  All welcome
URL:https://scayneshillvillage.co.uk/event/all-souls-service-2/
LOCATION:St Augustine’s Church
END:VEVENT
BEGIN:VEVENT
DTSTART;TZID=Europe/London:20251103T150000
DTEND;TZID=Europe/London:20251103T170000
DTSTAMP:20260423T235107
CREATED:20250716T202101Z
LAST-MODIFIED:20251024T120406Z
UID:6769-1762182000-1762189200@scayneshillvillage.co.uk
SUMMARY:Funday Monday - Angels
DESCRIPTION:For all children up to Year 6 with their parents/carers there will be Lego\, Games\, Craft Activities\, Bible Stories\, Tasty Hot Meal and Delicious Dessert.  This month the theme is ‘Angels’. \nBook this FREE session at sash.parishoffice@gmail.com or through the school for St. Augustine’s pupils.  For further information contact Jenny Walker on jennypwalker@gmail.com or 01444-831696.
URL:https://scayneshillvillage.co.uk/event/funday-monday-fishy-tales-morning/
LOCATION:St. Augustine’s Church Annexe\, RH17 7NY
ATTACH;FMTTYPE=image/jpeg:https://scayneshillvillage.co.uk/wp-content/uploads/2025/07/2025-2026-Funday-Monday.jpg
END:VEVENT
BEGIN:VEVENT
DTSTART;TZID=Europe/London:20251105T190000
DTEND;TZID=Europe/London:20251105T210000
DTSTAMP:20260423T235107
CREATED:20241028T235249Z
LAST-MODIFIED:20251027T122855Z
UID:6509-1762369200-1762376400@scayneshillvillage.co.uk
SUMMARY:Lindfield Fireworks
DESCRIPTION:This year Lindfield Bonfire Society is holding its celebration on Wednesday 5th November. \nThe evening of our free-to-attend celebration starts with a torchlight procession around Lindfield\, which heads onto the Common for the reading of the Bonfire Prayer and then the lighting of the bonfire. We finish the evening with our grand firework display.  the event is FREE but please do make a donation to one of our collectors on the night. \nProgramme of Events* \n7.00pm – Procession form up – outside of The Standup Inn\, Lindfield High Street\n7.30pm – Torchlight Procession – through the village\n8.30pm – Lighting of the Bonfire – preceded by the Traditional Bonfire Prayer\n8.45pm – Grand Firework Display – on Lindfield Common\n9.00pm – End of show\n*All timings are approximate and subject to weather conditions.
URL:https://scayneshillvillage.co.uk/event/lindfield-fireworks/
LOCATION:Lindfield Common
ATTACH;FMTTYPE=image/jpeg:https://scayneshillvillage.co.uk/wp-content/uploads/2024/10/fireworks.jpg
ORGANIZER;CN="Lindfield Bonfire Society":MAILTO:lindfieldbonfiresoc@gmail.com
END:VEVENT
BEGIN:VEVENT
DTSTART;TZID=Europe/London:20251109T101500
DTEND;TZID=Europe/London:20251109T113000
DTSTAMP:20260423T235107
CREATED:20251027T121026Z
LAST-MODIFIED:20251027T122414Z
UID:6838-1762683300-1762687800@scayneshillvillage.co.uk
SUMMARY:Service of Remembrance
DESCRIPTION:All are welcome to join us at our Service of Remembrance.  During the service we will unite around the War Memorial in an Act of Remembrance to commemorate the sacrifice and service of everyone in the two World Wars and also all those in more recent conflicts.
URL:https://scayneshillvillage.co.uk/event/service-of-remembrance-2/
LOCATION:St Augustine’s Church
END:VEVENT
BEGIN:VEVENT
DTSTART;TZID=Europe/London:20251121T190000
DTEND;TZID=Europe/London:20251121T210000
DTSTAMP:20260423T235107
CREATED:20251027T124819Z
LAST-MODIFIED:20251027T125025Z
UID:6852-1763751600-1763758800@scayneshillvillage.co.uk
SUMMARY:Concert of Celtish music
DESCRIPTION:As individual artists Nigel and Julie have both had long established experience recording and performing Celtic-influenced music at home and abroad. Working together as a married couple since 2014\, they have recorded six ‘Celtish’ albums and have traveled extensively\, sometimes with other musicians\, using ‘Celtish’ as their band name. \nThey play a range of upbeat and reflective music\, instrumentals\, original songs and familiar lyrics set to timeless melodies. As well as introducing songs with personal testimonies they often share stories about the Celtic Saints and songs based on what they have learned about them. \nAdmission is FREE but a donation of £5 is suggested. \nFor further information see https://www.soundsofwonder.org/artists/celtish/
URL:https://scayneshillvillage.co.uk/event/concert-of-celtish-music/
LOCATION:St Augustine’s Church
END:VEVENT
BEGIN:VEVENT
DTSTART;TZID=Europe/London:20251122T110000
DTEND;TZID=Europe/London:20251122T150000
DTSTAMP:20260423T235107
CREATED:20251121T130759Z
LAST-MODIFIED:20251121T130759Z
UID:6862-1763809200-1763823600@scayneshillvillage.co.uk
SUMMARY:Charity Christmas Market
DESCRIPTION:There will be stalls\, refreshments and a raffle.  Come and support the various charities and get yourself some Christmas gifts.  Hope to see you there!
URL:https://scayneshillvillage.co.uk/event/charity-christmas-market/
LOCATION:Millenium Village Centre
END:VEVENT
BEGIN:VEVENT
DTSTART;TZID=Europe/London:20251129T163000
DTEND;TZID=Europe/London:20251129T173000
DTSTAMP:20260423T235107
CREATED:20251027T121812Z
LAST-MODIFIED:20251121T133647Z
UID:6841-1764433800-1764437400@scayneshillvillage.co.uk
SUMMARY:Village Christmas Tree Lighting
DESCRIPTION:Everyone is cordially invited to join us for the annual lighting of the village Christmas tree on Saturday 29th November at 4.30 pm – please see attached flyer. \nWe will start proceedings by serving free hot dogs and this will be followed by the grand switch-on of the lights with some carols around the tree. \nAfter this\, we will move back inside where there will be stalls to enjoy and mulled wine and mince pies and treats for children will be served. \nWe would love to see you at this lovely start to the Christmas season – everyone is very welcome.
URL:https://scayneshillvillage.co.uk/event/village-christmas-tree-lighting/
LOCATION:St Augustine’s Church
END:VEVENT
END:VCALENDAR